Workbook

Sheet Mapping
A1: Sage Account Code | B1: Sage Account Name | C1: CRS Category | D1: Account Code | E1: Odoo Account | F1: Odoo Costcenter Code | G1: Odoo Costcenter | H1: Analytical Accounts | I1: Odoo Location Code | J1: Odoo Location
A2: 1000-100-A01 | B2: PETTY CASH | D2: =_xlfn.XLOOKUP($E2,Data!$B1:$B182,Data!$A1:$A182,"-") -> 111001 | E2: Cash Cash | F2: =_xlfn.XLOOKUP($G2,Data!$F1:$F182,Data!$E1:$E182,"-") -> 12 | G2: Administration | I2: A01 | J2: =_xlfn.XLOOKUP(I2,Data!$C$3:$C$11,Data!$D$3:$D$11,"-") -> Admin
A3: 1000-100-S01 | B3: CASH ON HAND - 10 AVE. | D3: =_xlfn.XLOOKUP($E3,Data!$B1:$B182,Data!$A1:$A182,"-") -> 111002 | E3: Cash on hand - stores | G3: Store and Omni Channel Operations | I3: S01 | J3: =_xlfn.XLOOKUP(I3,Data!$C$3:$C$11,Data!$D$3:$D$11,"-") -> 10th Street Retail
A4: 1000-100-S02 | B4: CASH ON HAND - CHINOOK | D4: =_xlfn.XLOOKUP($E4,Data!$B1:$B182,Data!$A1:$A182,"-") -> 111002 | E4: Cash on hand - stores | G4: Store and Omni Channel Operations | I4: S02 | J4: =_xlfn.XLOOKUP(I4,Data!$C$3:$C$11,Data!$D$3:$D$11,"-") -> Chinook Retail
A5: 1000-100-S05 | B5: CASH ON HAND - CROWFOOT | D5: =_xlfn.XLOOKUP($E5,Data!$B1:$B182,Data!$A1:$A182,"-") -> 111002 | E5: Cash on hand - stores | G5: Store and Omni Channel Operations | I5: S05 | J5: =_xlfn.XLOOKUP(I5,Data!$C$3:$C$11,Data!$D$3:$D$11,"-") -> Crowfoot Retail
A6: 1000-100-S11 | B6: CASH ON HAND - Edmonton | D6: =_xlfn.XLOOKUP($E6,Data!$B2:$B183,Data!$A2:$A183,"-") -> 111002 | E6: Cash on hand - stores | G6: Store and Omni Channel Operations | I6: S11 | J6: Strathcona - Edmonton
A7: 1005-100-S01 | B7: CASH IN TRANSIT - 10 AVE. | D7: =_xlfn.XLOOKUP($E7,Data!$B1:$B182,Data!$A1:$A182,"-") -> 111003 | E7: Cash in transit - stores | G7: Store and Omni Channel Operations | I7: S01 | J7: =_xlfn.XLOOKUP(I7,Data!$C$3:$C$11,Data!$D$3:$D$11,"-") -> 10th Street Retail
A8: 1005-100-S02 | B8: CASH IN TRANSIT - CHINOOK | D8: =_xlfn.XLOOKUP($E8,Data!$B1:$B182,Data!$A1:$A182,"-") -> 111003 | E8: Cash in transit - stores | G8: Store and Omni Channel Operations | I8: S02 | J8: =_xlfn.XLOOKUP(I8,Data!$C$3:$C$11,Data!$D$3:$D$11,"-") -> Chinook Retail
A9: 1005-100-S05 | B9: CASH IN TRANSIT - CROWFOOT | D9: =_xlfn.XLOOKUP($E9,Data!$B1:$B182,Data!$A1:$A182,"-") -> 111003 | E9: Cash in transit - stores | G9: Store and Omni Channel Operations | I9: S05 | J9: =_xlfn.XLOOKUP(I9,Data!$C$3:$C$11,Data!$D$3:$D$11,"-") -> Crowfoot Retail
A10: 1005-100-S11 | B10: CASH IN TRANSIT - - Edmonton | D10: =_xlfn.XLOOKUP($E10,Data!$B2:$B183,Data!$A2:$A183,"-") -> 111003 | E10: Cash in transit - stores | G10: Store and Omni Channel Operations | I10: S11 | J10: Strathcona - Edmonton
A11: 1008-100-A01 | B11: BANK BMO | D11: =_xlfn.XLOOKUP($E11,Data!$B1:$B182,Data!$A1:$A182,"-") -> 112001 | E11: Bank-BMO | F11: =_xlfn.XLOOKUP($G11,Data!$F1:$F182,Data!$E1:$E182,"-") -> 12 | G11: Administration | I11: A01 | J11: =_xlfn.XLOOKUP(I11,Data!$C$3:$C$11,Data!$D$3:$D$11,"-") -> Admin
A12: 1009-100-A01 | B12: BANK CIBC MW Naturals (in trust to1226309 Alberta Ltd.) | D12: =_xlfn.XLOOKUP($E12,Data!$B1:$B182,Data!$A1:$A182,"-") -> 111001 | E12: Cash Cash | F12: =_xlfn.XLOOKUP($G12,Data!$F1:$F182,Data!$E1:$E182,"-") -> 12 | G12: Administration | I12: A01 | J12: =_xlfn.XLOOKUP(I12,Data!$C$3:$C$11,Data!$D$3:$D$11,"-") -> Admin
A13: 1010-100-A01 | B13: BANK BMO | D13: =_xlfn.XLOOKUP($E13,Data!$B1:$B182,Data!$A1:$A182,"-") -> 112001 | E13: Bank-BMO | F13: =_xlfn.XLOOKUP($G13,Data!$F1:$F182,Data!$E1:$E182,"-") -> 12 | G13: Administration | I13: A01 | J13: =_xlfn.XLOOKUP(I13,Data!$C$3:$C$11,Data!$D$3:$D$11,"-") -> Admin
A14: 1011-100-A01 | B14: BANK CIBC | D14: =_xlfn.XLOOKUP($E14,Data!$B1:$B182,Data!$A1:$A182,"-") -> 112002 | E14: Bank-CIBC | F14: =_xlfn.XLOOKUP($G14,Data!$F1:$F182,Data!$E1:$E182,"-") -> 12 | G14: Administration | I14: A01 | J14: =_xlfn.XLOOKUP(I14,Data!$C$3:$C$11,Data!$D$3:$D$11,"-") -> Admin
A15: 1012-100-A01 | B15: CREDIT CARD - MASTERCARD | D15: =_xlfn.XLOOKUP($E15,Data!$B1:$B182,Data!$A1:$A182,"-") -> 113001 | E15: CC- Mastercard | F15: =_xlfn.XLOOKUP($G15,Data!$F1:$F182,Data!$E1:$E182,"-") -> 12 | G15: Administration | I15: A01 | J15: =_xlfn.XLOOKUP(I15,Data!$C$3:$C$11,Data!$D$3:$D$11,"-") -> Admin
A16: 1020-100-S01 | B16: DIRECT DEPOSITS | D16: =_xlfn.XLOOKUP($E16,Data!$B1:$B182,Data!$A1:$A182,"-") -> 113004 | E16: Direct Deposits | G16: Store and Omni Channel Operations | I16: S01 | J16: =_xlfn.XLOOKUP(I16,Data!$C$3:$C$11,Data!$D$3:$D$11,"-") -> 10th Street Retail
A17: 1020-100-S02 | B17: DIRECT DEPOSITS | D17: =_xlfn.XLOOKUP($E17,Data!$B1:$B182,Data!$A1:$A182,"-") -> 113004 | E17: Direct Deposits | G17: Store and Omni Channel Operations | I17: S02 | J17: =_xlfn.XLOOKUP(I17,Data!$C$3:$C$11,Data!$D$3:$D$11,"-") -> Chinook Retail
A18: 1020-100-S03 | B18: DIRECT DEPOSITS | D18: =_xlfn.XLOOKUP($E18,Data!$B1:$B182,Data!$A1:$A182,"-") -> 113004 | E18: Direct Deposits | G18: Store and Omni Channel Operations | I18: S03 | J18: =_xlfn.XLOOKUP(I18,Data!$C$3:$C$11,Data!$D$3:$D$11,"-") -> S03
A19: 1020-100-S05 | B19: DIRECT DEPOSITS | D19: =_xlfn.XLOOKUP($E19,Data!$B1:$B182,Data!$A1:$A182,"-") -> 113004 | E19: Direct Deposits | G19: Store and Omni Channel Operations | I19: S05 | J19: =_xlfn.XLOOKUP(I19,Data!$C$3:$C$11,Data!$D$3:$D$11,"-") -> Crowfoot Retail
A20: 1020-100-S06 | B20: DIRECT DEPOSITS | D20: =_xlfn.XLOOKUP($E20,Data!$B1:$B182,Data!$A1:$A182,"-") -> 113004 | E20: Direct Deposits | G20: Store and Omni Channel Operations | I20: S03 | J20: =_xlfn.XLOOKUP(I20,Data!$C$3:$C$11,Data!$D$3:$D$11,"-") -> S03
A21: 1020-100-S11 | B21: DIRECT DEPOSITS | D21: =_xlfn.XLOOKUP($E21,Data!$B2:$B183,Data!$A2:$A183,"-") -> 113004 | E21: Direct Deposits | G21: Store and Omni Channel Operations | I21: S11 | J21: Strathcona - Edmonton
A22: 1030-100-S01 | B22: VISA DEPOSITS | D22: =_xlfn.XLOOKUP($E22,Data!$B1:$B182,Data!$A1:$A182,"-") -> 113002 | E22: CC-Visa | G22: Store and Omni Channel Operations | I22: S01 | J22: =_xlfn.XLOOKUP(I22,Data!$C$3:$C$11,Data!$D$3:$D$11,"-") -> 10th Street Retail
A23: 1030-100-S02 | B23: VISA DEPOSITS | D23: =_xlfn.XLOOKUP($E23,Data!$B1:$B182,Data!$A1:$A182,"-") -> 113002 | E23: CC-Visa | G23: Store and Omni Channel Operations | I23: S02 | J23: =_xlfn.XLOOKUP(I23,Data!$C$3:$C$11,Data!$D$3:$D$11,"-") -> Chinook Retail
A24: 1030-100-S03 | B24: VISA DEPOSITS | D24: =_xlfn.XLOOKUP($E24,Data!$B1:$B182,Data!$A1:$A182,"-") -> 113002 | E24: CC-Visa | G24: Store and Omni Channel Operations | I24: S03 | J24: =_xlfn.XLOOKUP(I24,Data!$C$3:$C$11,Data!$D$3:$D$11,"-") -> S03
A25: 1030-100-S05 | B25: VISA DEPOSITS | D25: =_xlfn.XLOOKUP($E25,Data!$B1:$B182,Data!$A1:$A182,"-") -> 113002 | E25: CC-Visa | G25: Store and Omni Channel Operations | I25: S05 | J25: =_xlfn.XLOOKUP(I25,Data!$C$3:$C$11,Data!$D$3:$D$11,"-") -> Crowfoot Retail
A26: 1030-100-S06 | B26: VISA DEPOSITS - WEB STORE | D26: =_xlfn.XLOOKUP($E26,Data!$B1:$B182,Data!$A1:$A182,"-") -> 113002 | E26: CC-Visa | G26: Store and Omni Channel Operations | I26: S03 | J26: =_xlfn.XLOOKUP(I26,Data!$C$3:$C$11,Data!$D$3:$D$11,"-") -> S03
A27: 1030-100-S11 | B27: VISA DEPOSITS | D27: =_xlfn.XLOOKUP($E27,Data!$B2:$B183,Data!$A2:$A183,"-") -> 113002 | E27: CC-Visa | G27: Store and Omni Channel Operations | I27: S11 | J27: Strathcona - Edmonton
A28: 1035-100-S01 | B28: AMERICAN EXPRESS DEPOSITS | D28: =_xlfn.XLOOKUP($E28,Data!$B1:$B182,Data!$A1:$A182,"-") -> 113003 | E28: CC-Amex | G28: Store and Omni Channel Operations | I28: S01 | J28: =_xlfn.XLOOKUP(I28,Data!$C$3:$C$11,Data!$D$3:$D$11,"-") -> 10th Street Retail
A29: 1035-100-S02 | B29: AMERICAN EXPRESS DEPOSITS | D29: =_xlfn.XLOOKUP($E29,Data!$B1:$B182,Data!$A1:$A182,"-") -> 113003 | E29: CC-Amex | G29: Store and Omni Channel Operations | I29: S02 | J29: =_xlfn.XLOOKUP(I29,Data!$C$3:$C$11,Data!$D$3:$D$11,"-") -> Chinook Retail
A30: 1035-100-S03 | B30: AMERICAN EXPRESS DEPOSITS | D30: =_xlfn.XLOOKUP($E30,Data!$B1:$B182,Data!$A1:$A182,"-") -> 113003 | E30: CC-Amex | G30: Store and Omni Channel Operations | I30: S03 | J30: =_xlfn.XLOOKUP(I30,Data!$C$3:$C$11,Data!$D$3:$D$11,"-") -> S03
A31: 1035-100-S05 | B31: AMERICAN EXPRESS DEPOSITS | D31: =_xlfn.XLOOKUP($E31,Data!$B1:$B182,Data!$A1:$A182,"-") -> 113003 | E31: CC-Amex | G31: Store and Omni Channel Operations | I31: S05 | J31: =_xlfn.XLOOKUP(I31,Data!$C$3:$C$11,Data!$D$3:$D$11,"-") -> Crowfoot Retail
A32: 1035-100-S06 | B32: AMERICAN EXPRESS DEPOSITS | D32: =_xlfn.XLOOKUP($E32,Data!$B1:$B182,Data!$A1:$A182,"-") -> 113003 | E32: CC-Amex | G32: Store and Omni Channel Operations | I32: S03 | J32: =_xlfn.XLOOKUP(I32,Data!$C$3:$C$11,Data!$D$3:$D$11,"-") -> S03
A33: 1035-100-S11 | B33: AMERICAN EXPRESS DEPOSITS | D33: =_xlfn.XLOOKUP($E33,Data!$B2:$B183,Data!$A2:$A183,"-") -> 113003 | E33: CC-Amex | G33: Store and Omni Channel Operations | I33: S11 | J33: Strathcona - Edmonton
A34: 1040-100-S01 | B34: MASTERCARD DEPOSITS | D34: =_xlfn.XLOOKUP($E34,Data!$B1:$B182,Data!$A1:$A182,"-") -> 113001 | E34: CC- Mastercard | G34: Store and Omni Channel Operations | I34: S01 | J34: =_xlfn.XLOOKUP(I34,Data!$C$3:$C$11,Data!$D$3:$D$11,"-") -> 10th Street Retail
A35: 1040-100-S02 | B35: MASTERCARD DEPOSITS | D35: =_xlfn.XLOOKUP($E35,Data!$B1:$B182,Data!$A1:$A182,"-") -> 113001 | E35: CC- Mastercard | G35: Store and Omni Channel Operations | I35: S02 | J35: =_xlfn.XLOOKUP(I35,Data!$C$3:$C$11,Data!$D$3:$D$11,"-") -> Chinook Retail
A36: 1040-100-S03 | B36: MASTERCARD DEPOSITS | D36: =_xlfn.XLOOKUP($E36,Data!$B1:$B182,Data!$A1:$A182,"-") -> 113001 | E36: CC- Mastercard | G36: Store and Omni Channel Operations | I36: S03 | J36: =_xlfn.XLOOKUP(I36,Data!$C$3:$C$11,Data!$D$3:$D$11,"-") -> S03
A37: 1040-100-S05 | B37: MASTERCARD DEPOSITS | D37: =_xlfn.XLOOKUP($E37,Data!$B1:$B182,Data!$A1:$A182,"-") -> 113001 | E37: CC- Mastercard | G37: Store and Omni Channel Operations | I37: S05 | J37: =_xlfn.XLOOKUP(I37,Data!$C$3:$C$11,Data!$D$3:$D$11,"-") -> Crowfoot Retail
A38: 1040-100-S06 | B38: MASTERCARD DEPOSITS - WEB STORE | D38: =_xlfn.XLOOKUP($E38,Data!$B1:$B182,Data!$A1:$A182,"-") -> 113001 | E38: CC- Mastercard | G38: Store and Omni Channel Operations | I38: S03 | J38: =_xlfn.XLOOKUP(I38,Data!$C$3:$C$11,Data!$D$3:$D$11,"-") -> S03
A39: 1040-100-S11 | B39: MASTERCARD DEPOSITS | D39: =_xlfn.XLOOKUP($E39,Data!$B2:$B183,Data!$A2:$A183,"-") -> 113001 | E39: CC- Mastercard | G39: Store and Omni Channel Operations | I39: S11 | J39: Strathcona - Edmonton
A40: 1045-100-S03 | B40: STRIPE DEPOSITS - HOME DELIVERY STORE | D40: =_xlfn.XLOOKUP($E40,Data!$B1:$B182,Data!$A1:$A182,"-") -> 113005 | E40: Stripe Deposits | G40: Store and Omni Channel Operations | I40: S03 | J40: =_xlfn.XLOOKUP(I40,Data!$C$3:$C$11,Data!$D$3:$D$11,"-") -> S03
...

Sheet Data
A1: Account Code | B1: Account Name | C1: Location Code | D1: Location Name | E1: Costcenter Code | F1: Costcenter Name | G1: Tags | H1: Asset Code
A2: - | B2: - - Select Account - - | C2: - | D2: - - Select Location - - | E2: - | F2: - - Select Costcenter - - | G2: - - Select Costcenter - -
A3: 111001 | B3: Cash Cash | C3: A01 | D3: Admin | E3: 01 | F3: Finance | G3: Communication - Employee Cell Phone plan
A4: 111002 | B4: Cash on hand - stores | C4: S01 | D4: 10th Street Retail | E4: 02 | F4: Technology | G4: Communication - Internet/Telephone
A5: 111003 | B5: Cash in transit - stores | C5: S02 | D5: Chinook Retail | E5: 03 | F5: Marketing | G5: Bank Fee - Foreign Exchange
A6: 112001 | B6: Bank-BMO | C6: S05 | D6: Crowfoot Retail | E6: 04 | F6: Category Management | G6: Revenue - Retail
A7: 112002 | B7: Bank-CIBC | C7: W01 | D7: Warehouse | E7: 05 | F7: Facilities | G7: Revenue - Omni
A8: 113001 | B8: CC- Mastercard | C8: S03 | D8: S03 | E8: 06 | F8: Human Resources | G8: Revenue - Click & Collect
A9: 113002 | B9: CC-Visa | C9: S06 | D9: S06 | E9: 07 | F9: Supply Chain | G9: COGS - Retail | J9: michael area ( transportation)
A10: 113003 | B10: CC-Amex | C10: B1 | D10: B1 | E10: 08 | F10: Customer Care | G10: COGS - Omni
A11: 113004 | B11: Direct Deposits | C11: R1 | D11: R1 | E11: 09 | F11: Operations Research | G11: COGS - Click & Collect
A12: 113005 | B12: Stripe Deposits | E12: 10 | F12: Store and Omni Channel Operations | G12: Repairs & maintenance- IT
A13: 113006 | B13: PayPal deposits | E13: 11 | F13: Executive | G13: Repairs & maintenance- Automotive
A14: 113007 | B14: Cash Deposits | E14: 12 | F14: Administration | G14: Repairs & maintenance- Office equipment
A15: 113008 | B15: Bank Clearing | E15: 00 | F15: None | G15: Repairs & maintenance- Store Equipment
A16: 113005 | B16: Stripe | G16: Repairs & maintenance- Building
A17: 113999 | B17: Liquidity Transfer | G17: Professional fees - IT
A18: 114100 | B18: Inventory | G18: Professional fees - Finance
A19: 115100 | B19: Customers Account | G19: Professional fees - HR
A20: 115110 | B20: Customers Account (PoS) | G20: Professional fees - operations (supply chain)
A21: 118100 | B21: GST receivable | G21: Vendor Rebate - Coupons
A22: 118200 | B22: PST/QST receivable | G22: Asset - Land
A23: 118310 | B23: HST receivable - 13% | G23: Asset - Equipment
A24: 118320 | B24: HST receivable - 14% | G24: Asset - Lease Hold Improvements
A25: 118330 | B25: HST receivable - 15% | G25: Asset -Building
A26: 131210 | B26: Prepaid Expenses | G26: Asset - Furniture
A27: 131215 | B27: WCB Prepaid Expenses | G27: Asset - Computer hardware
... A36: 144500 | B36: Stock Delivered But Not Billed | G36: Utilities - Natural Gas
A37: 171400 | B37: Fixed Assets
A38: 171401 | B38: Goodwill
A39: 171402 | B39: Intangible Assets
A40: 177000 | B40: Fixed Assets - accumulated depreciation
A41: 210000 | B41: Bank indebtedness
A42: 211100 | B42: Accounts payable - trade domestic
A43: 211200 | B43: Accounts payable - trade international (by currency)
A44: 212100 | B44: Accrued liabilities
A45: 212150 | B45: Accounts Payable - Misc
A46: 212900 | B46: Stock Received But Not Billed
A47: 212901 | B47: Opentaps clearing
A48: 212902 | B48: Gift certifictes
...

Sheet Sheet2
A1: 1
